BEGIN:VCALENDAR
VERSION:2.0
PRODID:-//Plone.org//NONSGML plone.app.event//EN
X-WR-TIMEZONE:Europe/Berlin
BEGIN:VEVENT
SUMMARY:Bethe Colloquium by Dieter Lüst
DTSTART;TZID=Europe/Berlin:20261029T161500
DTEND;TZID=Europe/Berlin:20261029T181500
DTSTAMP:20260423T070844Z
UID:5f56e88a666d4309a7990b9b1891821c-en@www.pi.uni-bonn.de
CATEGORIES:indico_33
CREATED:20260302T075603Z
DESCRIPTION:"TBA" - Für weitere Angaben folgen Sie dem Link in der Katego
 rie "Weitere Informationen". For further details\, follow the link in the 
 "Additional Information" category.
LAST-MODIFIED:20260302T075605Z
URL:https://www.pi.uni-bonn.de/en/assets/termine/bethe-colloquium-by-diete
 r-luest
END:VEVENT
BEGIN:VTIMEZONE
TZID:Europe/Berlin
X-LIC-LOCATION:Europe/Berlin
BEGIN:STANDARD
DTSTART:20261025T020000
TZNAME:CET
TZOFFSETFROM:+0200
TZOFFSETTO:+0100
END:STANDARD
END:VTIMEZONE
END:VCALENDAR
