BEGIN:VCALENDAR
VERSION:2.0
PRODID:-//Plone.org//NONSGML plone.app.event//EN
X-WR-TIMEZONE:Europe/Berlin
BEGIN:VEVENT
SUMMARY:Amplitudes Seminar: TBA
DTSTART;TZID=Europe/Berlin:20260708T110000
DTEND;TZID=Europe/Berlin:20260708T130000
DTSTAMP:20260421T115157Z
UID:83707d2f6d72463c8e27844da3bbf6f3-en@www.pi.uni-bonn.de
CATEGORIES:indico_34
CREATED:20260420T091537Z
DESCRIPTION:"TBA" - Für weitere Angaben folgen Sie dem Link in der Katego
 rie "Weitere Informationen". For further details\, follow the link in the 
 "Additional Information" category.
LAST-MODIFIED:20260420T091537Z
URL:https://www.pi.uni-bonn.de/en/assets/termine/amplitudes-seminar-tba-2
END:VEVENT
BEGIN:VTIMEZONE
TZID:Europe/Berlin
X-LIC-LOCATION:Europe/Berlin
BEGIN:DAYLIGHT
DTSTART:20260329T030000
TZNAME:CEST
TZOFFSETFROM:+0100
TZOFFSETTO:+0200
END:DAYLIGHT
END:VTIMEZONE
END:VCALENDAR
