BEGIN:VCALENDAR
VERSION:2.0
PRODID:-//Plone.org//NONSGML plone.app.event//EN
X-WR-TIMEZONE:Europe/Berlin
BEGIN:VEVENT
SUMMARY:Master Colloquium: Explaining the KM3NeT Ultra-High-Energy Neu...
DTSTART;TZID=Europe/Berlin:20260327T150000
DTEND;TZID=Europe/Berlin:20260327T160000
DTSTAMP:20260422T175301Z
UID:57fffc8038d144a688b8df259e429cdb-de@www.pi.uni-bonn.de
CATEGORIES:indico_66
CREATED:20260323T103011Z
DESCRIPTION:"Master Colloquium: Explaining the KM3NeT Ultra-High-Energy Ne
 utrino Flux with Heavy Decaying Dark Matter" - Für weitere Angaben folgen
  Sie dem Link in der Kategorie "Weitere Informationen". For further detail
 s\, follow the link in the "Additional Information" category.
LAST-MODIFIED:20260323T103012Z
URL:https://www.pi.uni-bonn.de/de/Assets/termine/master-colloquium-explain
 ing-the-km3net-ultra-high-energy-neu
END:VEVENT
BEGIN:VTIMEZONE
TZID:Europe/Berlin
X-LIC-LOCATION:Europe/Berlin
BEGIN:STANDARD
DTSTART:20251026T020000
TZNAME:CET
TZOFFSETFROM:+0200
TZOFFSETTO:+0100
END:STANDARD
END:VTIMEZONE
END:VCALENDAR
