BEGIN:VCALENDAR
VERSION:2.0
PRODID:-//Plone.org//NONSGML plone.app.event//EN
X-WR-TIMEZONE:Europe/Berlin
BEGIN:VEVENT
SUMMARY:HEP Theory Seminar: Probing hadronic CP violation with molecul...
DTSTART;TZID=Europe/Berlin:20260601T141500
DTEND;TZID=Europe/Berlin:20260601T161500
DTSTAMP:20260421T181247Z
UID:20c0fae41e6d4f2aae36c41217de9c6b-de@www.pi.uni-bonn.de
CATEGORIES:indico_32
CREATED:20260420T091531Z
DESCRIPTION:"Probing hadronic CP violation with molecular Electric Dipole 
 Moments" - Für weitere Angaben folgen Sie dem Link in der Kategorie "Weit
 ere Informationen". For further details\, follow the link in the "Addition
 al Information" category.
LAST-MODIFIED:20260420T091534Z
URL:https://www.pi.uni-bonn.de/de/Assets/termine/hep-theory-seminar-probin
 g-hadronic-cp-violation-with-molecul
END:VEVENT
BEGIN:VTIMEZONE
TZID:Europe/Berlin
X-LIC-LOCATION:Europe/Berlin
BEGIN:DAYLIGHT
DTSTART:20260329T030000
TZNAME:CEST
TZOFFSETFROM:+0100
TZOFFSETTO:+0200
END:DAYLIGHT
END:VTIMEZONE
END:VCALENDAR
